BEGIN:VCALENDAR
VERSION:2.0
PRODID:-//eventon.com NONSGML v1.0//EN
CALSCALE:GREGORIAN
METHOD:PUBLISH
BEGIN:VEVENT
UID:69e962ce79ae6
DTSTAMP:20260423T000742Z
DTSTART:20260511T143000Z
DTEND:20260511T153000Z
LOCATION:Horse Meadow Senior Center-GCSCC 91 Horse Meadow Road
SUMMARY:'Stay Steady' Fall Prevention Workshop Q2\,  2026
DESCRIPTION:Stay Steady This Spring! Join us for the second of our Quarterl
 y Fall Prevention Workshops at Horse Meadow Senior Center on Monday\,  May 
 11th from 10:30–11:30 AM. This free\,  interactive workshop will be led b
 y Ernie Roy\,  DPT\,  Physical Therapist with Pemi-Baker Hospice &amp; Home
  Health\,  and will cover practical[..]\nhttps://pemibakerhospicehomehealth
 .org/events/fall-prevention-workshop-q2-2026/
URL:https://pemibakerhospicehomehealth.org/events/fall-prevention-workshop-q2-2026/
END:VEVENT
END:VCALENDAR