BEGIN:VCALENDAR
VERSION:2.0
PRODID:-//eventon.com NONSGML v1.0//EN
CALSCALE:GREGORIAN
METHOD:PUBLISH
BEGIN:VEVENT
UID:69e6dd431c731
DTSTAMP:20260421T021323Z
DTSTART:20260722T220000Z
DTEND:20260722T230000Z
LOCATION:Meredith Public Library 91 Main Street
SUMMARY:How to Communicate with my Dr. About My Medications & Healthcare
DESCRIPTION:How to Communicate with my Dr. About My Medications &#038; Heal
 thcare\nhttps://pemibakerhospicehomehealth.org/events/how-to-communicate-wi
 th-my-dr-about-my-medications-healthcare/
URL:https://pemibakerhospicehomehealth.org/events/how-to-communicate-with-my-dr-about-my-medications-healthcare/
END:VEVENT
BEGIN:VEVENT
UID:69e6dd431d2fe
DTSTAMP:20260421T021323Z
DTSTART:20260513T150000Z
DTEND:20260513T160000Z
LOCATION:Lincoln Public Library 22 Church Street
SUMMARY:Health & Wellness As We Age-Being Prepared with Forms-Lincoln
DESCRIPTION:Health &#038; Wellness As We Age-Being Prepared with Forms-Linc
 oln\nhttps://pemibakerhospicehomehealth.org/events/health-wellness-as-we-ag
 e-being-prepared-with-forms-lincoln/
URL:https://pemibakerhospicehomehealth.org/events/health-wellness-as-we-age-being-prepared-with-forms-lincoln/
END:VEVENT
BEGIN:VEVENT
UID:69e6dd431dbb6
DTSTAMP:20260421T021323Z
DTSTART:20260410T180000Z
DTEND:20260410T190000Z
LOCATION:Taylor Community Meredith Bay 21 Upper Mile Point
SUMMARY:Health & Wellness As We Age-Preparing your Forms
DESCRIPTION:Health &#038; Wellness As We Age-Preparing your Forms\nhttps://
 pemibakerhospicehomehealth.org/events/health-wellness-as-we-age-preparing-y
 our-forms/
URL:https://pemibakerhospicehomehealth.org/events/health-wellness-as-we-age-preparing-your-forms/
END:VEVENT
BEGIN:VEVENT
UID:69e6dd431e4e1
DTSTAMP:20260421T021323Z
DTSTART:20260423T140000Z
DTEND:20260423T150000Z
LOCATION:Horse Meadow Senior Center-GCSCC 91 Horse Meadow Road
SUMMARY:Advance Directive Workshop-FREE!
DESCRIPTION:Advance Directive Workshop-FREE!\nhttps://pemibakerhospicehomeh
 ealth.org/events/advance-directive-workshop-free-2-2/
URL:https://pemibakerhospicehomehealth.org/events/advance-directive-workshop-free-2-2/
END:VEVENT
BEGIN:VEVENT
UID:69e6dd431ee35
DTSTAMP:20260421T021323Z
DTSTART:20260420T153000Z
DTEND:20260420T163000Z
LOCATION:Plymouth Regional Senior Center 8 Depot St
SUMMARY:Advance Directive Workshop-FREE!
DESCRIPTION:Advance Directive Workshop-FREE!\nhttps://pemibakerhospicehomeh
 ealth.org/events/advance-directive-workshop-free-2/
URL:https://pemibakerhospicehomehealth.org/events/advance-directive-workshop-free-2/
END:VEVENT
BEGIN:VEVENT
UID:69e6dd431f6fa
DTSTAMP:20260421T021323Z
DTSTART:20260511T143000Z
DTEND:20260511T153000Z
LOCATION:Horse Meadow Senior Center-GCSCC 91 Horse Meadow Road
SUMMARY:‘Stay Steady’ Fall Prevention Workshop Q2\,  2026
DESCRIPTION:&#8216;Stay Steady&#8217; Fall Prevention Workshop Q2\,  2026\n
 https://pemibakerhospicehomehealth.org/events/fall-prevention-workshop-q2-2
 026/
URL:https://pemibakerhospicehomehealth.org/events/fall-prevention-workshop-q2-2026/
END:VEVENT
BEGIN:VEVENT
UID:69e6dd431ffb3
DTSTAMP:20260421T021323Z
DTSTART:20260122T230000Z
DTEND:20260123T000000Z
LOCATION:Waterville Valley Recreation Department 11 Noon Peak Road
SUMMARY:Health & Wellness As We Age-Being Prepared!
DESCRIPTION:Health &#038; Wellness As We Age-Being Prepared!\nhttps://pemib
 akerhospicehomehealth.org/events/health-wellness-as-we-age-being-prepared/
URL:https://pemibakerhospicehomehealth.org/events/health-wellness-as-we-age-being-prepared/
END:VEVENT
BEGIN:VEVENT
UID:69e6dd43207ea
DTSTAMP:20260421T021323Z
DTSTART:20260112T153000Z
DTEND:20260112T163000Z
LOCATION:Horse Meadow Senior Center-GCSCC 91 Horse Meadow Road
SUMMARY:Fall Prevention Workshop Q1\,  2026
DESCRIPTION:Fall Prevention Workshop Q1\,  2026\nhttps://pemibakerhospiceho
 mehealth.org/events/fall-prevention-workshop-q1-2026/
URL:https://pemibakerhospicehomehealth.org/events/fall-prevention-workshop-q1-2026/
END:VEVENT
BEGIN:VEVENT
UID:69e6dd432109d
DTSTAMP:20260421T021323Z
DTSTART:20260111T060000Z
DTEND:20260120T170000Z
LOCATION:Lakes Region Casino Route 106
SUMMARY:Lakes Region Casino-Play For a Purpose!
DESCRIPTION:Lakes Region Casino-Play For a Purpose!\nhttps://pemibakerhospi
 cehomehealth.org/events/lakes-region-casino-play-for-a-purpose/
URL:https://pemibakerhospicehomehealth.org/events/lakes-region-casino-play-for-a-purpose/
END:VEVENT
BEGIN:VEVENT
UID:69e6dd4321a4c
DTSTAMP:20260421T021323Z
DTSTART:20260203T153000Z
DTEND:20260203T170000Z
LOCATION:Plymouth Regional Senior Center 8 Depot St
SUMMARY:Grief & Bereavement Support Group Winter Series 10:30am\,  2026
DESCRIPTION:Grief &#038; Bereavement Support Group Winter Series 10:30am\, 
  2026\nhttps://pemibakerhospicehomehealth.org/events/grief-bereavement-supp
 ort-group-winter-series-1030am-2026/
URL:https://pemibakerhospicehomehealth.org/events/grief-bereavement-support-group-winter-series-1030am-2026/
END:VEVENT
BEGIN:VEVENT
UID:69e6dd432247b
DTSTAMP:20260421T021323Z
DTSTART:20260105T163000Z
DTEND:20260105T173000Z
LOCATION:Plymouth Regional Senior Center 8 Depot St
SUMMARY:Ask A Pemi-Baker Nurse- Plymouth Regional Senior Center 2026
DESCRIPTION:Ask A Pemi-Baker Nurse- Plymouth Regional Senior Center 2026\nh
 ttps://pemibakerhospicehomehealth.org/events/ask-a-pemi-baker-nurse-plymout
 h-regional-senior-center-2026/
URL:https://pemibakerhospicehomehealth.org/events/ask-a-pemi-baker-nurse-plymouth-regional-senior-center-2026/
END:VEVENT
BEGIN:VEVENT
UID:69e6dd4322c99
DTSTAMP:20260421T021323Z
DTSTART:20260114T153000Z
DTEND:20260114T163000Z
LOCATION:Horse Meadow Senior Center-GCSCC 91 Horse Meadow Road
SUMMARY:Ask A Pemi-Baker Nurse- Horse Meadow Senior Center 2026
DESCRIPTION:Ask A Pemi-Baker Nurse- Horse Meadow Senior Center 2026\nhttps:
 //pemibakerhospicehomehealth.org/events/ask-a-pemi-baker-nurse-horse-meadow
 -senior-center-2026/
URL:https://pemibakerhospicehomehealth.org/events/ask-a-pemi-baker-nurse-horse-meadow-senior-center-2026/
END:VEVENT
BEGIN:VEVENT
UID:69e6dd4323549
DTSTAMP:20260421T021323Z
DTSTART:20260128T160000Z
DTEND:20260128T170000Z
LOCATION:Lin-Wood Area Senior Services 194 Pollard Road
SUMMARY:Ask A Pemi-Baker Nurse-Linwood/Lincoln Senior Center 2026
DESCRIPTION:Ask A Pemi-Baker Nurse-Linwood/Lincoln Senior Center 2026\nhttp
 s://pemibakerhospicehomehealth.org/events/ask-a-pemi-baker-nurse-linwood-li
 ncoln-senior-center-2026/
URL:https://pemibakerhospicehomehealth.org/events/ask-a-pemi-baker-nurse-linwood-lincoln-senior-center-2026/
END:VEVENT
BEGIN:VEVENT
UID:69e6dd4323d50
DTSTAMP:20260421T021323Z
DTSTART:20250924T150000Z
DTEND:20250924T160000Z
LOCATION:Lin-Wood Area Senior Services 194 Pollard Road
SUMMARY:Advance Directive Workshop-Drop In!
DESCRIPTION:Advance Directive Workshop-Drop In!\nhttps://pemibakerhospiceho
 mehealth.org/events/advance-directive-workshop-drop-in/
URL:https://pemibakerhospicehomehealth.org/events/advance-directive-workshop-drop-in/
END:VEVENT
BEGIN:VEVENT
UID:69e6dd43245b7
DTSTAMP:20260421T021323Z
DTSTART:20250924T130000Z
DTEND:20250924T160000Z
LOCATION:Speare Memorial Hospital @ Boulder Point 103 Boulder Point Drive
SUMMARY:Speare Rehab Health Fair
DESCRIPTION:Speare Rehab Health Fair\nhttps://pemibakerhospicehomehealth.or
 g/events/speare-rehab-health-fair/
URL:https://pemibakerhospicehomehealth.org/events/speare-rehab-health-fair/
END:VEVENT
BEGIN:VEVENT
UID:69e6dd4324e89
DTSTAMP:20260421T021323Z
DTSTART:20250807T151500Z
DTEND:20250807T161500Z
LOCATION:Orford Senior Center Dartmouth College Highway\,  Orford\,  NH 03777
SUMMARY:Advance Directive Workshop in Orford-FREE!
DESCRIPTION:Advance Directive Workshop in Orford-FREE!\nhttps://pemibakerho
 spicehomehealth.org/events/advance-directive-workshop-in-orford-free/
URL:https://pemibakerhospicehomehealth.org/events/advance-directive-workshop-in-orford-free/
END:VEVENT
BEGIN:VEVENT
UID:69e6dd43256c2
DTSTAMP:20260421T021323Z
DTSTART:20250904T143000Z
DTEND:20250904T160000Z
LOCATION:Plymouth Regional Senior Center 8 Depot St
SUMMARY:Special Presentation: Alzheimer’s\,  Dementia & Hospice
DESCRIPTION:Special Presentation: Alzheimer&#8217;s\,  Dementia &#038; Hosp
 ice\nhttps://pemibakerhospicehomehealth.org/events/special-presentation-alz
 heimers-dementia-hospice/
URL:https://pemibakerhospicehomehealth.org/events/special-presentation-alzheimers-dementia-hospice/
END:VEVENT
BEGIN:VEVENT
UID:69e6dd4325edb
DTSTAMP:20260421T021323Z
DTSTART:20250417T163000Z
DTEND:20250417T173000Z
LOCATION:Lin-Wood Area Senior Services 194 Pollard Road
SUMMARY:Advance Directive Workshop-FREE!
DESCRIPTION:Advance Directive Workshop-FREE!\nhttps://pemibakerhospicehomeh
 ealth.org/events/advance-directive-workshop-free-2-2-2-2/
URL:https://pemibakerhospicehomehealth.org/events/advance-directive-workshop-free-2-2-2-2/
END:VEVENT
BEGIN:VEVENT
UID:69e6dd43266c2
DTSTAMP:20260421T021323Z
DTSTART:20250403T151500Z
DTEND:20250403T163000Z
LOCATION:Orford Senior Center Dartmouth College Highway\,  Orford\,  NH 03777
SUMMARY:Advance Directive Workshop-FREE!
DESCRIPTION:Advance Directive Workshop-FREE!\nhttps://pemibakerhospicehomeh
 ealth.org/events/advance-directive-workshop-free/
URL:https://pemibakerhospicehomehealth.org/events/advance-directive-workshop-free/
END:VEVENT
BEGIN:VEVENT
UID:69e6dd4326edc
DTSTAMP:20260421T021323Z
DTSTART:20250414T163000Z
DTEND:20250414T173000Z
LOCATION:Lin-Wood Area Senior Services 194 Pollard Road
SUMMARY:Workshop: Wellness\,  Health & Happiness as We Age
DESCRIPTION:Workshop: Wellness\,  Health &#038; Happiness as We Age\nhttps:
 //pemibakerhospicehomehealth.org/events/workshop-wellness-health-happiness-
 as-we-age/
URL:https://pemibakerhospicehomehealth.org/events/workshop-wellness-health-happiness-as-we-age/
END:VEVENT
BEGIN:VEVENT
UID:69e6dd4327715
DTSTAMP:20260421T021323Z
DTSTART:20250221T150000Z
DTEND:20250221T190000Z
LOCATION:Plymouth Regional Senior Center 8 Depot St
SUMMARY:Plymouth Regional Senior Center Informational Fair
DESCRIPTION:Plymouth Regional Senior Center Informational Fair\nhttps://pem
 ibakerhospicehomehealth.org/events/plymouth-regional-senior-center-informat
 ional-fair/
URL:https://pemibakerhospicehomehealth.org/events/plymouth-regional-senior-center-informational-fair/
END:VEVENT
BEGIN:VEVENT
UID:69e6dd4327f68
DTSTAMP:20260421T021323Z
DTSTART:20260907
DTEND:20260908
LOCATION:
SUMMARY:Happy Labor Day\,  2026
DESCRIPTION:Happy Labor Day\,  2026\nhttps://pemibakerhospicehomehealth.org
 /events/happy-labor-day/
URL:https://pemibakerhospicehomehealth.org/events/happy-labor-day/
END:VEVENT
BEGIN:VEVENT
UID:69e6dd4328781
DTSTAMP:20260421T021323Z
DTSTART:20260525
DTEND:20260526
LOCATION:
SUMMARY:Happy Memorial Day\,  2026
DESCRIPTION:Happy Memorial Day\,  2026\nhttps://pemibakerhospicehomehealth.
 org/events/happy-memorial-day/
URL:https://pemibakerhospicehomehealth.org/events/happy-memorial-day/
END:VEVENT
BEGIN:VEVENT
UID:69e6dd4328fdd
DTSTAMP:20260421T021323Z
DTSTART:20251125T153000Z
DTEND:20251125T163000Z
LOCATION:Plymouth Regional Senior Center 8 Depot St
SUMMARY:Holiday Blues Bereavement Support Group 2025
DESCRIPTION:Holiday Blues Bereavement Support Group 2025\nhttps://pemibaker
 hospicehomehealth.org/events/holiday-blues-bereavement-support-group-2025/
URL:https://pemibakerhospicehomehealth.org/events/holiday-blues-bereavement-support-group-2025/
END:VEVENT
BEGIN:VEVENT
UID:69e6dd43298b1
DTSTAMP:20260421T021323Z
DTSTART:20250923T143000Z
DTEND:20250923T153000Z
LOCATION:Plymouth Regional Senior Center 8 Depot St
SUMMARY:Grief & Loss Support Group Fall Series 2025
DESCRIPTION:Grief &#038; Loss Support Group Fall Series 2025\nhttps://pemib
 akerhospicehomehealth.org/events/grief-loss-support-group-fall-series-2025/
URL:https://pemibakerhospicehomehealth.org/events/grief-loss-support-group-fall-series-2025/
END:VEVENT
BEGIN:VEVENT
UID:69e6dd432a195
DTSTAMP:20260421T021323Z
DTSTART:20250722T143000Z
DTEND:20250722T160000Z
LOCATION:Plymouth Regional Senior Center 8 Depot St
SUMMARY:Grief & Bereavement Support Group Summer
DESCRIPTION:Grief &#038; Bereavement Support Group Summer\nhttps://pemibake
 rhospicehomehealth.org/events/grief-bereavement-support-group-summer/
URL:https://pemibakerhospicehomehealth.org/events/grief-bereavement-support-group-summer/
END:VEVENT
BEGIN:VEVENT
UID:69e6dd432aadb
DTSTAMP:20260421T021323Z
DTSTART:20250520T143000Z
DTEND:20250520T160000Z
LOCATION:Plymouth Regional Senior Center 8 Depot St
SUMMARY:Grief & Bereavement Support Group Late Spring 2025
DESCRIPTION:Grief &#038; Bereavement Support Group Late Spring 2025\nhttps:
 //pemibakerhospicehomehealth.org/events/grief-bereavement-support-group-lat
 e-spring-2025/
URL:https://pemibakerhospicehomehealth.org/events/grief-bereavement-support-group-late-spring-2025/
END:VEVENT
BEGIN:VEVENT
UID:69e6dd432b4b6
DTSTAMP:20260421T021323Z
DTSTART:20250910T140000Z
DTEND:20250910T160000Z
LOCATION:Pemi-Baker Hospice &amp; Home Health 101 Boulder Point Drive\,  Suite 3
SUMMARY:Hospice Volunteer Training (Sept 2025)
DESCRIPTION:Hospice Volunteer Training (Sept 2025)\nhttps://pemibakerhospic
 ehomehealth.org/events/hospice-volunteer-training-sept-2025/
URL:https://pemibakerhospicehomehealth.org/events/hospice-volunteer-training-sept-2025/
END:VEVENT
BEGIN:VEVENT
UID:69e6dd432befb
DTSTAMP:20260421T021323Z
DTSTART:20250514T140000Z
DTEND:20250514T160000Z
LOCATION:Pemi-Baker Hospice &amp; Home Health 101 Boulder Point Drive\,  Suite 3
SUMMARY:Hospice Volunteer Training (May) CANCELLED
DESCRIPTION:Hospice Volunteer Training (May) CANCELLED\nhttps://pemibakerho
 spicehomehealth.org/events/hospice-volunteer-training-may-2025/
URL:https://pemibakerhospicehomehealth.org/events/hospice-volunteer-training-may-2025/
END:VEVENT
BEGIN:VEVENT
UID:69e6dd432c7ca
DTSTAMP:20260421T021323Z
DTSTART:20260210T150000Z
DTEND:20260210T170000Z
LOCATION:Pemi-Baker Hospice &amp; Home Health 101 Boulder Point Drive\,  Suite 3
SUMMARY:Hospice Volunteer Training (Feb 2026)
DESCRIPTION:Hospice Volunteer Training (Feb 2026)\nhttps://pemibakerhospice
 homehealth.org/events/hospice-volunteer-training-feb-2023-2/
URL:https://pemibakerhospicehomehealth.org/events/hospice-volunteer-training-feb-2023-2/
END:VEVENT
BEGIN:VEVENT
UID:69e6dd432d048
DTSTAMP:20260421T021323Z
DTSTART:20241007T153000Z
DTEND:20241007T163000Z
LOCATION:Plymouth Regional Senior Center 8 Depot St
SUMMARY:Flu Vaccine Clinic
DESCRIPTION:Flu Vaccine Clinic\nhttps://pemibakerhospicehomehealth.org/even
 ts/flu-vaccine-clinic/
URL:https://pemibakerhospicehomehealth.org/events/flu-vaccine-clinic/
END:VEVENT
BEGIN:VEVENT
UID:69e6dd432d879
DTSTAMP:20260421T021323Z
DTSTART:20261126
DTEND:20261127
LOCATION:
SUMMARY:Thanksgiving Day\,  2026
DESCRIPTION:Thanksgiving Day\,  2026\nhttps://pemibakerhospicehomehealth.or
 g/events/thanksgiving-day/
URL:https://pemibakerhospicehomehealth.org/events/thanksgiving-day/
END:VEVENT
BEGIN:VEVENT
UID:69e6dd432e01e
DTSTAMP:20260421T021323Z
DTSTART:20260317
DTEND:20260318
LOCATION:
SUMMARY:Happy St. Patrick’s Day\,  2026
DESCRIPTION:Happy St. Patrick&#8217;s Day\,  2026\nhttps://pemibakerhospice
 homehealth.org/events/happy-st-patricks-day/
URL:https://pemibakerhospicehomehealth.org/events/happy-st-patricks-day/
END:VEVENT
BEGIN:VEVENT
UID:69e6dd432e7c7
DTSTAMP:20260421T021323Z
DTSTART:20260704
DTEND:20260705
LOCATION:
SUMMARY:Happy Fourth of July\,  2026
DESCRIPTION:Happy Fourth of July\,  2026\nhttps://pemibakerhospicehomehealt
 h.org/events/happy-fourth-of-july/
URL:https://pemibakerhospicehomehealth.org/events/happy-fourth-of-july/
END:VEVENT
BEGIN:VEVENT
UID:69e6dd432f069
DTSTAMP:20260421T021323Z
DTSTART:20250318T143000Z
DTEND:20250318T160000Z
LOCATION:Plymouth Regional Senior Center 8 Depot St
SUMMARY:Grief & Loss Support Group-Spring Series
DESCRIPTION:Grief &#038; Loss Support Group-Spring Series\nhttps://pemibake
 rhospicehomehealth.org/events/grief-loss-support-group-spring-series/
URL:https://pemibakerhospicehomehealth.org/events/grief-loss-support-group-spring-series/
END:VEVENT
BEGIN:VEVENT
UID:69e6dd432f9ff
DTSTAMP:20260421T021323Z
DTSTART:20260107T150000Z
DTEND:20260107T163000Z
LOCATION:Pemi-Baker Hospice &amp; Home Health 101 Boulder Point Drive\,  Suite 3
SUMMARY:Caregiver Support Group-1st Wednesday of the month
DESCRIPTION:Caregiver Support Group-1st Wednesday of the month\nhttps://pem
 ibakerhospicehomehealth.org/events/caregiver-support-group-2/
URL:https://pemibakerhospicehomehealth.org/events/caregiver-support-group-2/
END:VEVENT
BEGIN:VEVENT
UID:69e6dd433025a
DTSTAMP:20260421T021323Z
DTSTART:20260214
DTEND:20260215
LOCATION:
SUMMARY:Happy Valentine’s Day\,  2026
DESCRIPTION:Happy Valentine&#8217;s Day\,  2026\nhttps://pemibakerhospiceho
 mehealth.org/events/happy-valentines-day-2/
URL:https://pemibakerhospicehomehealth.org/events/happy-valentines-day-2/
END:VEVENT
BEGIN:VEVENT
UID:69e6dd4330b47
DTSTAMP:20260421T021323Z
DTSTART:20250102T190000Z
DTEND:20250102T210000Z
LOCATION:Pemi-Baker Hospice &amp; Home Health 101 Boulder Point Drive\,  Suite 3
SUMMARY:Adult & Pediatric CPR/AED
DESCRIPTION:Adult &#038; Pediatric CPR/AED\nhttps://pemibakerhospicehomehea
 lth.org/events/adult-pediatric-cpr-aed/
URL:https://pemibakerhospicehomehealth.org/events/adult-pediatric-cpr-aed/
END:VEVENT
BEGIN:VEVENT
UID:69e6dd433152c
DTSTAMP:20260421T021323Z
DTSTART:20250416
DTEND:20250417
LOCATION:
SUMMARY:National Health Care Decision Day
DESCRIPTION:National Health Care Decision Day\nhttps://pemibakerhospicehome
 health.org/events/national-health-care-decision-day/
URL:https://pemibakerhospicehomehealth.org/events/national-health-care-decision-day/
END:VEVENT
BEGIN:VEVENT
UID:69e6dd4331db1
DTSTAMP:20260421T021323Z
DTSTART:20260401
DTEND:20260402
LOCATION:
SUMMARY:April Fools Day\,  2026
DESCRIPTION:April Fools Day\,  2026\nhttps://pemibakerhospicehomehealth.org
 /events/april-fools-day/
URL:https://pemibakerhospicehomehealth.org/events/april-fools-day/
END:VEVENT
BEGIN:VEVENT
UID:69e6dd433258b
DTSTAMP:20260421T021323Z
DTSTART:20251224
DTEND:20251225
LOCATION:
SUMMARY:Christmas Eve
DESCRIPTION:Christmas Eve\nhttps://pemibakerhospicehomehealth.org/events/ch
 ristmas-eve/
URL:https://pemibakerhospicehomehealth.org/events/christmas-eve/
END:VEVENT
BEGIN:VEVENT
UID:69e6dd4332de7
DTSTAMP:20260421T021323Z
DTSTART:20260101
DTEND:20260102
LOCATION:
SUMMARY:New Years Day\,  2026
DESCRIPTION:New Years Day\,  2026\nhttps://pemibakerhospicehomehealth.org/e
 vents/new-years-day/
URL:https://pemibakerhospicehomehealth.org/events/new-years-day/
END:VEVENT
BEGIN:VEVENT
UID:69e6dd433360b
DTSTAMP:20260421T021323Z
DTSTART:20251225
DTEND:20251226
LOCATION:
SUMMARY:Christmas Day
DESCRIPTION:Christmas Day\nhttps://pemibakerhospicehomehealth.org/events/ch
 ristmas-day/
URL:https://pemibakerhospicehomehealth.org/events/christmas-day/
END:VEVENT
BEGIN:VEVENT
UID:69e6dd4333ea0
DTSTAMP:20260421T021323Z
DTSTART:20251031
DTEND:20251101
LOCATION:
SUMMARY:Halloween
DESCRIPTION:Halloween\nhttps://pemibakerhospicehomehealth.org/events/hallow
 een/
URL:https://pemibakerhospicehomehealth.org/events/halloween/
END:VEVENT
END:VCALENDAR